BEGIN:VCALENDAR
VERSION:2.0
PRODID:-//Brisket and Beyond BBQ - ECPv6.15.17.1//NONSGML v1.0//EN
CALSCALE:GREGORIAN
METHOD:PUBLISH
X-WR-CALNAME:Brisket and Beyond BBQ
X-ORIGINAL-URL:https://www.brisketandbeyond.com
X-WR-CALDESC:Events for Brisket and Beyond BBQ
REFRESH-INTERVAL;VALUE=DURATION:PT1H
X-Robots-Tag:noindex
X-PUBLISHED-TTL:PT1H
BEGIN:VTIMEZONE
TZID:UTC
BEGIN:STANDARD
TZOFFSETFROM:+0000
TZOFFSETTO:+0000
TZNAME:UTC
DTSTART:20240101T000000
END:STANDARD
END:VTIMEZONE
BEGIN:VEVENT
DTSTART;TZID=UTC:20251212T190000
DTEND;TZID=UTC:20251212T233000
DTSTAMP:20260422T070432
CREATED:20251202T003007Z
LAST-MODIFIED:20251202T003007Z
UID:2124-1765566000-1765582200@www.brisketandbeyond.com
SUMMARY:Cigars International Lutz
DESCRIPTION:Join us at Cigar International in Lutz this Sunday from 6 PM to 11:30 PM for Brisket and Beyond! Don’t miss out on our BBQ Brisket Sandwich!
URL:https://www.brisketandbeyond.com/event/cigars-international-lutz/
LOCATION:Cigar International Lutz\, 2691 Creek Grass Wy\, Lutz\, FL\, 33559\, United States
ATTACH;FMTTYPE=image/png:https://www.brisketandbeyond.com/wp-content/uploads/2025/11/Screenshot-2025-11-16-at-9.07.37-AM.png
END:VEVENT
BEGIN:VEVENT
DTSTART;TZID=UTC:20251206T110000
DTEND;TZID=UTC:20251206T180000
DTSTAMP:20260422T070432
CREATED:20251202T002820Z
LAST-MODIFIED:20251202T002820Z
UID:2121-1765018800-1765044000@www.brisketandbeyond.com
SUMMARY:Holiday Village at the Carrollwood Cultural Center
DESCRIPTION:We’ll be serving BBQ at Carrollwood Village Park during the family-friendly Holiday Village event\, featuring holiday crafts\, activities\, music\, and local vendors. Join us from 11 AM to 6 PM for festive fun and great food!
URL:https://www.brisketandbeyond.com/event/holiday-village-at-the-carrollwood-cultural-center/
LOCATION:Carrollwood Cultural Center\, 4537 Lowell Rd.\, Tampa\, FL\, 33618\, United States
ATTACH;FMTTYPE=image/jpeg:https://www.brisketandbeyond.com/wp-content/uploads/2025/12/Holiday-Village-logo-Phases-II-III-scaled-1.jpg
END:VEVENT
BEGIN:VEVENT
DTSTART;TZID=UTC:20251205T170000
DTEND;TZID=UTC:20251205T200000
DTSTAMP:20260422T070432
CREATED:20251202T003550Z
LAST-MODIFIED:20251202T003550Z
UID:2119-1764954000-1764964800@www.brisketandbeyond.com
SUMMARY:Stonegate Community
DESCRIPTION:We will be outside the Stonegate Clubhouse from 5 to 8 pm Friday night\, come celebrate the holidays with us. Grab some delicious bbq while your out!
URL:https://www.brisketandbeyond.com/event/stonegate-community-6/
LOCATION:Stone Gate Event\, 2934 Stonegate Falls Dr\, Land O' Lakes\, 34638\, United States
ATTACH;FMTTYPE=image/png:https://www.brisketandbeyond.com/wp-content/uploads/2024/12/Stonegate-SM.png
END:VEVENT
BEGIN:VEVENT
DTSTART;TZID=UTC:20251122T120000
DTEND;TZID=UTC:20251122T210000
DTSTAMP:20260422T070432
CREATED:20250914T210410Z
LAST-MODIFIED:20250914T210410Z
UID:2076-1763812800-1763845200@www.brisketandbeyond.com
SUMMARY:Wulfaven Brewery
DESCRIPTION:Join us at Wulfaven Brewing Co. on Saturday\, November 22nd\, from 12 to 9pm for mouthwatering BBQ and refreshing craft beer. Come taste our latest specials!
URL:https://www.brisketandbeyond.com/event/wulfaven-brewery-3/
LOCATION:Wulfaven Brewery Company\, 10828 Perez Dr.\, Tampa\, FL\, 33618\, United States
END:VEVENT
BEGIN:VEVENT
DTSTART;TZID=UTC:20251120T180000
DTEND;TZID=UTC:20251120T230000
DTSTAMP:20260422T070432
CREATED:20251116T140934Z
LAST-MODIFIED:20251116T141004Z
UID:2107-1763661600-1763679600@www.brisketandbeyond.com
SUMMARY:Cigar International
DESCRIPTION:Join us at Cigar International in Lutz this Sunday from 6 PM to 11 PM for Brisket and Beyond! Don’t miss out on our BBQ Brisket Sandwich!
URL:https://www.brisketandbeyond.com/event/cigar-international/
LOCATION:Cigar International Lutz\, 2691 Creek Grass Wy\, Lutz\, FL\, 33559\, United States
ATTACH;FMTTYPE=image/png:https://www.brisketandbeyond.com/wp-content/uploads/2025/11/Screenshot-2025-11-16-at-9.07.37-AM.png
END:VEVENT
BEGIN:VEVENT
DTSTART;TZID=UTC:20251116T130000
DTEND;TZID=UTC:20251116T160000
DTSTAMP:20260422T070432
CREATED:20250914T210051Z
LAST-MODIFIED:20250914T210051Z
UID:2074-1763298000-1763308800@www.brisketandbeyond.com
SUMMARY:Hop State Brewing
DESCRIPTION:Join us at Hop State Brewing this Sunday from 1 to 4 PM for Brisket and Beyond! Don’t miss out on our BBQ Mac & Cheese.
URL:https://www.brisketandbeyond.com/event/hop-state-brewing-4/
LOCATION:Hop State Brewing\, 7052 Benjamin Rd\, Tampa\, FL\, 33634\, United States
ATTACH;FMTTYPE=image/jpeg:https://www.brisketandbeyond.com/wp-content/uploads/2025/09/Hop-State-Brewing.jpg
END:VEVENT
BEGIN:VEVENT
DTSTART;TZID=UTC:20251115T100000
DTEND;TZID=UTC:20251115T140000
DTSTAMP:20260422T070432
CREATED:20250914T205624Z
LAST-MODIFIED:20250914T205624Z
UID:2072-1763200800-1763215200@www.brisketandbeyond.com
SUMMARY:Wiregrass Market
DESCRIPTION:We will be at the Wiregrass Market on Saturday\, November 15th from 10am to 2pm. Come check out the vendors and try our new specials.
URL:https://www.brisketandbeyond.com/event/wiregrass-market-6/
LOCATION:Wiregrass Market\, 28211 Paseo Drive\, Wesley Chapel\, FL\, 33543\, United States
ATTACH;FMTTYPE=image/jpeg:https://www.brisketandbeyond.com/wp-content/uploads/2024/12/290wiregrass-valetcircle.jpg
END:VEVENT
BEGIN:VEVENT
DTSTART;TZID=UTC:20251108T100000
DTEND;TZID=UTC:20251108T140000
DTSTAMP:20260422T070432
CREATED:20250914T205450Z
LAST-MODIFIED:20250914T205450Z
UID:2070-1762596000-1762610400@www.brisketandbeyond.com
SUMMARY:Carrollwood Market
DESCRIPTION:We will be at the Carrollwood Saturday Market from 10am to 2pm on Saturday\, November 8th at the Carrollwood Cultural Center. Come check out local vendors and try our hot honey pimento brisket sandwich!
URL:https://www.brisketandbeyond.com/event/carrollwood-market-4/
LOCATION:Carrollwood Cultural Center\, 4537 Lowell Rd.\, Tampa\, FL\, 33618\, United States
ATTACH;FMTTYPE=image/jpeg:https://www.brisketandbeyond.com/wp-content/uploads/2024/09/Carrollwood-Cultural-Center-wedding-Tampa-FL-1.jpg
END:VEVENT
BEGIN:VEVENT
DTSTART;TZID=UTC:20251107T170000
DTEND;TZID=UTC:20251107T210000
DTSTAMP:20260422T070432
CREATED:20250914T205232Z
LAST-MODIFIED:20250914T205232Z
UID:2068-1762534800-1762549200@www.brisketandbeyond.com
SUMMARY:Wulfaven Brewery
DESCRIPTION:Join us at Wulfaven Brewing Co. on Friday\, November 7th\, from 5 to 9pm for mouthwatering BBQ and refreshing craft beer. Come taste our latest specials—great food\, cold drinks\, and good vibes.
URL:https://www.brisketandbeyond.com/event/wulfaven-brewery-2/
LOCATION:Wulfaven Brewery Company\, 10828 Perez Dr.\, Tampa\, FL\, 33618\, United States
ATTACH;FMTTYPE=image/jpeg:https://www.brisketandbeyond.com/wp-content/uploads/2025/01/Wulfaven-SM.jpg
END:VEVENT
BEGIN:VEVENT
DTSTART;TZID=UTC:20251101T170000
DTEND;TZID=UTC:20251101T210000
DTSTAMP:20260422T070432
CREATED:20250918T203736Z
LAST-MODIFIED:20250918T203814Z
UID:2080-1762016400-1762030800@www.brisketandbeyond.com
SUMMARY:Wulfaven Brewery
DESCRIPTION:Join us at Wulfaven Brewing Co. on Saturday\, November 1st\, from 5 to 9pm for mouthwatering BBQ and refreshing craft beer. Come taste our latest specials—great food and cold drinks.
URL:https://www.brisketandbeyond.com/event/wulfhaven-brewing/
LOCATION:Wulfaven Brewery Company\, 10828 Perez Dr.\, Tampa\, FL\, 33618\, United States
END:VEVENT
BEGIN:VEVENT
DTSTART;TZID=UTC:20251030T170000
DTEND;TZID=UTC:20251030T210000
DTSTAMP:20260422T070432
CREATED:20250914T205044Z
LAST-MODIFIED:20250918T203849Z
UID:2066-1761843600-1761858000@www.brisketandbeyond.com
SUMMARY:Wulfaven Brewery
DESCRIPTION:Join us at Wulfaven Brewing Co. on Thursday\, October 30th\, from 5 to 9pm for mouthwatering BBQ and refreshing craft beer. Come taste our latest specials—great food\, cold drinks\, and spooky vibes.
URL:https://www.brisketandbeyond.com/event/wulfaven-brewery/
LOCATION:Wulfaven Brewery Company\, 10828 Perez Dr.\, Tampa\, FL\, 33618\, United States
ATTACH;FMTTYPE=image/jpeg:https://www.brisketandbeyond.com/wp-content/uploads/2025/01/Wulfaven-SM.jpg
END:VEVENT
BEGIN:VEVENT
DTSTART;TZID=UTC:20251026T160000
DTEND;TZID=UTC:20251026T190000
DTSTAMP:20260422T070432
CREATED:20250914T204518Z
LAST-MODIFIED:20251025T131612Z
UID:2062-1761494400-1761505200@www.brisketandbeyond.com
SUMMARY:Hop State Brewing
DESCRIPTION:Join us at Hop State Brewing this Sunday from 4 to 7 PM for Brisket and Beyond! Don’t miss out on our mouthwatering BBQ Mac and Cheese.
URL:https://www.brisketandbeyond.com/event/hop-state-brewing-3/
LOCATION:Hop State Brewing\, 7052 Benjamin Rd\, Tampa\, FL\, 33634\, United States
ATTACH;FMTTYPE=image/jpeg:https://www.brisketandbeyond.com/wp-content/uploads/2025/09/Hop-State-Brewing.jpg
END:VEVENT
BEGIN:VEVENT
DTSTART;TZID=UTC:20251025T120000
DTEND;TZID=UTC:20251025T210000
DTSTAMP:20260422T070432
CREATED:20250914T204713Z
LAST-MODIFIED:20250914T204713Z
UID:2064-1761393600-1761426000@www.brisketandbeyond.com
SUMMARY:In the Loop Brewing
DESCRIPTION:We will be outside In The Loop Brewing in Land O Lakes on Saturday\, October 25th\, from 12 to 9pm. Stop by and grab a craft beer and local bbq!
URL:https://www.brisketandbeyond.com/event/in-the-loop-brewing-3/
LOCATION:In The Loop Brewing\, 3338 Land O' Lakes Blvd\, Land O' Lakes\, FL\, 34639\, United States
ATTACH;FMTTYPE=image/jpeg:https://www.brisketandbeyond.com/wp-content/uploads/2025/09/In-The-Loop-Brewing.jpg
END:VEVENT
BEGIN:VEVENT
DTSTART;TZID=UTC:20251003T170000
DTEND;TZID=UTC:20251003T200000
DTSTAMP:20260422T070432
CREATED:20250914T204026Z
LAST-MODIFIED:20250914T204026Z
UID:2058-1759510800-1759521600@www.brisketandbeyond.com
SUMMARY:Stonegate Community Event
DESCRIPTION:We will be outside of the Stonegate Community clubhouse in Land O’ Lakes from 5pm to 8pm on Friday\, October 3rd. This is a community event only.
URL:https://www.brisketandbeyond.com/event/stonegate-community-event-2/
LOCATION:Stone Gate Event\, 2934 Stonegate Falls Dr\, Land O' Lakes\, 34638\, United States
ATTACH;FMTTYPE=image/png:https://www.brisketandbeyond.com/wp-content/uploads/2024/12/Stonegate-SM.png
END:VEVENT
BEGIN:VEVENT
DTSTART;TZID=UTC:20251001T110000
DTEND;TZID=UTC:20251001T140000
DTSTAMP:20260422T070432
CREATED:20250914T203338Z
LAST-MODIFIED:20250914T203338Z
UID:2055-1759316400-1759327200@www.brisketandbeyond.com
SUMMARY:Mayor's Food Truck Fiesta
DESCRIPTION:Come visit Brisket and Beyond at the Mayor’s Food Truck Fiesta! We’ll be serving up our signature BBQ sandwiches and mac and cheese\, along with other tasty treats. Join us in The Square at Lykes Gaslight Park from 11 AM to 2 PM for delicious food and a great time!
URL:https://www.brisketandbeyond.com/event/mayors-food-truck-fiesta/
LOCATION:Lykes Gaslight Square Park\, 263 E Madison St\, Tampa\, 33602\, United States
END:VEVENT
BEGIN:VEVENT
DTSTART;TZID=UTC:20250926T170000
DTEND;TZID=UTC:20250926T210000
DTSTAMP:20260422T070432
CREATED:20250914T202516Z
LAST-MODIFIED:20250914T202516Z
UID:2049-1758906000-1758920400@www.brisketandbeyond.com
SUMMARY:In the Loop Brewing
DESCRIPTION:We will be outside In The Loop Brewing in Land O Lakes on Friday\, September 26th\, from 5 to 9pm. Stop by and grab a craft beer and local bbq!
URL:https://www.brisketandbeyond.com/event/in-the-loop-brewing-2/
LOCATION:In The Loop Brewing\, 3338 Land O' Lakes Blvd\, Land O' Lakes\, FL\, 34639\, United States
ATTACH;FMTTYPE=image/jpeg:https://www.brisketandbeyond.com/wp-content/uploads/2025/09/In-The-Loop-Brewing.jpg
END:VEVENT
BEGIN:VEVENT
DTSTART;TZID=UTC:20250924T170000
DTEND;TZID=UTC:20250924T200000
DTSTAMP:20260422T070432
CREATED:20250701T171644Z
LAST-MODIFIED:20250701T171644Z
UID:2038-1758733200-1758744000@www.brisketandbeyond.com
SUMMARY:Azora at Cypress Ranch
DESCRIPTION:Brisket and Beyond will be outside the Azora apartment complex at Cypress Ranch from 5 to 8pm on Wednesday. Come swing by on your way home and try our delicious BBQ Beast Sandwich.
URL:https://www.brisketandbeyond.com/event/azora-at-cypress-ranch-2/
LOCATION:Azora at Cypress Ranch\, 17583 Bellavista Loop\, Lutz\, FL\, 33558\, United States
END:VEVENT
BEGIN:VEVENT
DTSTART;TZID=UTC:20250921T130000
DTEND;TZID=UTC:20250921T160000
DTSTAMP:20260422T070432
CREATED:20250914T201955Z
LAST-MODIFIED:20250919T200057Z
UID:2045-1758459600-1758470400@www.brisketandbeyond.com
SUMMARY:Hop State Brewing
DESCRIPTION:Join us at Hop State Brewing this Sunday from 1 to 4 PM for Brisket and Beyond! Enjoy mouthwatering BBQ Mac and Cheese\, Buffaque Wings\, and Pulled Pork Nachos while watching the Bucs take on the Jets. Don’t miss out on great food\, drinks\, and the game!
URL:https://www.brisketandbeyond.com/event/hop-state-brewing/
LOCATION:Hop State Brewing\, 7052 Benjamin Rd\, Tampa\, FL\, 33634\, United States
ATTACH;FMTTYPE=image/jpeg:https://www.brisketandbeyond.com/wp-content/uploads/2025/09/Hop-State-Brewing.jpg
END:VEVENT
BEGIN:VEVENT
DTSTART;TZID=UTC:20250706T110000
DTEND;TZID=UTC:20250706T170000
DTSTAMP:20260422T070432
CREATED:20250607T143738Z
LAST-MODIFIED:20250607T143738Z
UID:2035-1751799600-1751821200@www.brisketandbeyond.com
SUMMARY:Wulfaven Brewing Co.
DESCRIPTION:Join us at Wulfaven Brewing Co. on Sunday\, July 6th\, from 11am to 5pm for mouthwatering BBQ and refreshing craft beer. Come taste our latest specials—great food\, cold drinks\, and good vibes.
URL:https://www.brisketandbeyond.com/event/wulfaven-brewing-co-2/
LOCATION:Wulfaven Brewery Company\, 10828 Perez Dr.\, Tampa\, FL\, 33618\, United States
END:VEVENT
BEGIN:VEVENT
DTSTART;TZID=UTC:20250628T140000
DTEND;TZID=UTC:20250628T230000
DTSTAMP:20260422T070432
CREATED:20250607T143521Z
LAST-MODIFIED:20250607T143543Z
UID:2033-1751119200-1751151600@www.brisketandbeyond.com
SUMMARY:Stonegate July 4th Celebration
DESCRIPTION:We will be outside the Stonegate Clubhouse from 2 to 11 pm Saturday to help celebrate July 4th with the Stonegate Community. Come try our pimento brisket sandwich!
URL:https://www.brisketandbeyond.com/event/stonegate-july-4th-celebration/
LOCATION:Stone Gate Event\, 2934 Stonegate Falls Dr\, Land O' Lakes\, 34638\, United States
END:VEVENT
BEGIN:VEVENT
DTSTART;TZID=UTC:20250622T120000
DTEND;TZID=UTC:20250622T180000
DTSTAMP:20260422T070432
CREATED:20250607T143231Z
LAST-MODIFIED:20250607T143350Z
UID:2029-1750593600-1750615200@www.brisketandbeyond.com
SUMMARY:In The Loop Brewing
DESCRIPTION:We will be outside In The Loop Brewing in Land O Lakes on Sunday\, June 22nd\, from 12 to 6pm. Stop by and grab a craft beer and local bbq!
URL:https://www.brisketandbeyond.com/event/in-the-loop-brewing/
LOCATION:In The Loop Brewing\, 3338 Land O' Lakes Blvd\, Land O' Lakes\, FL\, 34639\, United States
END:VEVENT
BEGIN:VEVENT
DTSTART;TZID=UTC:20250620T160000
DTEND;TZID=UTC:20250620T210000
DTSTAMP:20260422T070432
CREATED:20250422T220149Z
LAST-MODIFIED:20250422T220310Z
UID:2021-1750435200-1750453200@www.brisketandbeyond.com
SUMMARY:Wulfaven Brewing Company
DESCRIPTION:We will be outside Wulfaven Brewing Co. in Carrollwood on Friday\, June 20th\, from 4 to 9pm. Stop by and grab a craft beer and local bbq!
URL:https://www.brisketandbeyond.com/event/wulfaven-brewing-company-8/
LOCATION:FL
ATTACH;FMTTYPE=image/jpeg:https://www.brisketandbeyond.com/wp-content/uploads/2025/01/Wulfaven-SM.jpg
END:VEVENT
BEGIN:VEVENT
DTSTART;TZID=UTC:20250608T110000
DTEND;TZID=UTC:20250608T170000
DTSTAMP:20260422T070432
CREATED:20250422T215855Z
LAST-MODIFIED:20250422T215855Z
UID:2018-1749380400-1749402000@www.brisketandbeyond.com
SUMMARY:Wulfaven Brewing Company
DESCRIPTION:Join us at Wulfaven Brewing Co. on Sunday\, June 8th\, from 11am to 5pm for mouthwatering BBQ and refreshing craft beer. Come taste our latest specials—great food\, cold drinks\, and good vibes. Come out and try our flash-fried chicken wings today!
URL:https://www.brisketandbeyond.com/event/wulfaven-brewing-company-7/
LOCATION:Wulfaven Brewery Company\, 10828 Perez Dr.\, Tampa\, FL\, 33618\, United States
ATTACH;FMTTYPE=image/jpeg:https://www.brisketandbeyond.com/wp-content/uploads/2025/04/Wulfaven-SM.jpg
END:VEVENT
BEGIN:VEVENT
DTSTART;TZID=UTC:20250531T110000
DTEND;TZID=UTC:20250531T140000
DTSTAMP:20260422T070432
CREATED:20250410T133043Z
LAST-MODIFIED:20250410T133109Z
UID:2006-1748689200-1748700000@www.brisketandbeyond.com
SUMMARY:Cordoba Estates Summer Pool Party
DESCRIPTION:A private event for the Cordoba community. Come celebrate the start of Summer with us at the Cordoba Community Pool Party!!! Try our delicious bbq brisket mac.
URL:https://www.brisketandbeyond.com/event/cordoba-estates-summer-pool-party/
LOCATION:Cordoba Ranch\, 17802 Newcastle Field Dr.\, Lutz\, FL\, 33559\, United States
END:VEVENT
BEGIN:VEVENT
DTSTART;TZID=UTC:20250521T170000
DTEND;TZID=UTC:20250521T200000
DTSTAMP:20260422T070432
CREATED:20250422T213815Z
LAST-MODIFIED:20250422T215406Z
UID:2012-1747846800-1747857600@www.brisketandbeyond.com
SUMMARY:Azora at Cypress Ranch
DESCRIPTION:Brisket and Beyond will be outside the Azora apartment complex at Cypress Ranch. Come swing by on your way home and try our new B&B Cuban Sandwich!
URL:https://www.brisketandbeyond.com/event/azora-at-cypress-ranch/
LOCATION:Azora at Cypress Ranch\, 17583 Bellavista Loop\, Lutz\, FL\, 33558\, United States
ATTACH;FMTTYPE=image/jpeg:https://www.brisketandbeyond.com/wp-content/uploads/2025/04/Black-Polaroid-Happy-Birthday-Greeting-Instagram-Post.jpg
END:VEVENT
BEGIN:VEVENT
DTSTART;TZID=UTC:20250517T100000
DTEND;TZID=UTC:20250517T140000
DTSTAMP:20260422T070432
CREATED:20241204T212427Z
LAST-MODIFIED:20250201T024518Z
UID:1944-1747476000-1747490400@www.brisketandbeyond.com
SUMMARY:Wiregrass Market
DESCRIPTION:We will be at the Wiregrass Market on Saturday\, May 17th from 10am to 2pm. Come check out the vendors and try some loal bbq!
URL:https://www.brisketandbeyond.com/event/wiregrass-market-5/
LOCATION:Wiregrass Market\, 28211 Paseo Drive\, Wesley Chapel\, FL\, 33543\, United States
ATTACH;FMTTYPE=image/png:https://www.brisketandbeyond.com/wp-content/uploads/2024/12/Beige-Minimal-Job-Hiring-Instagram-Post-2.png
END:VEVENT
BEGIN:VEVENT
DTSTART;TZID=UTC:20250516T170000
DTEND;TZID=UTC:20250516T210000
DTSTAMP:20260422T070432
CREATED:20250410T132805Z
LAST-MODIFIED:20250410T132855Z
UID:2003-1747414800-1747429200@www.brisketandbeyond.com
SUMMARY:Wulfaven Brewing Company
DESCRIPTION:Friday\, May 16th from 5 to 9pm\, enjoy delicious BBQ and fresh craft beer at Wulfaven Brewing Co. Come try our new specials. Great food\, cold drinks\, and good times—don’t miss it!
URL:https://www.brisketandbeyond.com/event/wulfaven-brewing-company-5/
LOCATION:Wulfaven Brewery Company\, 10828 Perez Dr.\, Tampa\, FL\, 33618\, United States
ATTACH;FMTTYPE=image/jpeg:https://www.brisketandbeyond.com/wp-content/uploads/2025/01/Wulfaven-SM.jpg
END:VEVENT
BEGIN:VEVENT
DTSTART;TZID=UTC:20250510T100000
DTEND;TZID=UTC:20250510T140000
DTSTAMP:20260422T070432
CREATED:20241209T170926Z
LAST-MODIFIED:20241209T170926Z
UID:1959-1746871200-1746885600@www.brisketandbeyond.com
SUMMARY:Carrollwood Market
DESCRIPTION:We will be at the Carrollwood Saturday Market from 10am to 2pm on Saturday\, May 10th at the Carrollwood Cultural Center. Come check out local vendors and get a brisket sandwich from our truck.
URL:https://www.brisketandbeyond.com/event/carrollwood-market-3/
LOCATION:Carrollwood Cultural Center\, 4537 Lowell Rd.\, Tampa\, FL\, 33618\, United States
END:VEVENT
BEGIN:VEVENT
DTSTART;TZID=UTC:20250503T100000
DTEND;TZID=UTC:20250503T140000
DTSTAMP:20260422T070432
CREATED:20241204T212317Z
LAST-MODIFIED:20250201T024424Z
UID:1942-1746266400-1746280800@www.brisketandbeyond.com
SUMMARY:Wiregrass Market
DESCRIPTION:We will be at the Wiregrass Market on Saturday\, May 3rd from 10am to 2pm. Come check out the vendors and grab some bbq on your way out!
URL:https://www.brisketandbeyond.com/event/wiregrass-market-4/
LOCATION:Wiregrass Market\, 28211 Paseo Drive\, Wesley Chapel\, FL\, 33543\, United States
ATTACH;FMTTYPE=image/png:https://www.brisketandbeyond.com/wp-content/uploads/2024/12/Beige-Minimal-Job-Hiring-Instagram-Post-1.png
END:VEVENT
BEGIN:VEVENT
DTSTART;TZID=UTC:20250502T170000
DTEND;TZID=UTC:20250502T200000
DTSTAMP:20260422T070432
CREATED:20241204T212140Z
LAST-MODIFIED:20241204T213324Z
UID:1940-1746205200-1746216000@www.brisketandbeyond.com
SUMMARY:Stonegate Community
DESCRIPTION:We will be outside the Stonegate Clubhouse from 5 to 8 pm Friday night. Come grab some delicious bbq!
URL:https://www.brisketandbeyond.com/event/stonegate-community-5/
LOCATION:Stone Gate Event\, 2934 Stonegate Falls Dr\, Land O' Lakes\, 34638\, United States
ATTACH;FMTTYPE=image/png:https://www.brisketandbeyond.com/wp-content/uploads/2024/12/Stonegate-SM.png
END:VEVENT
END:VCALENDAR